BEGIN:VCALENDAR
PRODID:-//eluceo/ical//2.0/EN
VERSION:2.0
CALSCALE:GREGORIAN
BEGIN:VEVENT
UID:c785623a9a208ad7d96fe103e51c98a1
DTSTAMP:20260426T014238Z
SUMMARY:A Temple Sinai Program: Virtual Simchat Torah Service
DESCRIPTION:UJA Federation of Greater Toronto\nJewish Toronto Calendar\nhtt
 ps://jewishtoronto.com/calendar/a-temple-sinai-program-virtual-simchat-tor
 ah-service-1632495757\n\nA Temple Sinai Program: Virtual Simchat Torah Ser
 vice Monday\, September 27 at 6.30 p.m. For those wishing to mark the day 
 from home\, join us for an online service with Rabbi Lawrence Englander an
 d Cantor Charles Osborne with some exciting musical surprises! Visit our w
 ebsite at www.templesinai.net to stream our service.
DTSTART;TZID=America/Toronto:20210927T183000
DTEND;TZID=America/Toronto:20210927T193000
END:VEVENT
END:VCALENDAR
