BEGIN:VCALENDAR
PRODID:-//eluceo/ical//2.0/EN
VERSION:2.0
CALSCALE:GREGORIAN
BEGIN:VEVENT
UID:2de8ccc200bdbf4ad37434c7a1c306c7
DTSTAMP:20260420T181231Z
SUMMARY:A Temple Sinai Program: Virtual Community Passover Seder
DESCRIPTION:UJA Federation of Greater Toronto\nJewish Toronto Calendar\nhtt
 ps://jewishtoronto.com/calendar/a-temple-sinai-program-virtual-community-p
 assover-seder-1615574331\n\nA Temple Sinai Program: Virtual Community Pass
 over Seder  Sunday\, March 28 at 6.30 p.m. Don't dine alone this Pesach. R
 abbi Michael Dolgin and Cantor Charles Osborne will virtually welcome you 
 to a fun and interactive second-night seder experience. Help recite the fo
 ur questions\, find the afikoman and enjoy live festival music with the Te
 mple Sinai Ensemble Choir\, our Multigenerational choir and the L'dor V'do
 r choir. Register online at https://gazelle.zoom.us/meeting/register/tJ0rc
 OChqDMiG9B...
DTSTART;TZID=America/Toronto:20210328T183000
DTEND;TZID=America/Toronto:20210328T193000
END:VEVENT
END:VCALENDAR
