BEGIN:VCALENDAR
PRODID:-//eluceo/ical//2.0/EN
VERSION:2.0
CALSCALE:GREGORIAN
BEGIN:VEVENT
UID:0d35c7fad1742c1e2f86547e9a70160a
DTSTAMP:20260424T144139Z
SUMMARY:A Temple Sinai Program: The Times they are a Changin'
DESCRIPTION:UJA Federation of Greater Toronto\nJewish Toronto Calendar\nhtt
 ps://jewishtoronto.com/calendar/a-temple-sinai-program-the-times-they-are-
 a-changin-1504824115\n\nThe first show of the Harold Green Theatre Company
 \, The Times They Are a Changin’\, features a '60s song cycle highlighti
 ng Jewish artists/composers Bob Dylan\, Leonard Cohen\, Carole King. Canto
 r Osborne will wow us with their renditions of popular '60s tunes\, and we
 ’ll get a taste of the transformative Jewish experiences of the artists.
  Light breakfast to be served. Cost: Members: Free\; Non-Members: $10. For
  more information and to register\, please call the Temple Office at 416-4
 87-4161 or e...
DTSTART;TZID=America/Toronto:20171015T101500
DTEND;TZID=America/Toronto:20171015T120000
END:VEVENT
END:VCALENDAR
