BEGIN:VCALENDAR
PRODID:-//eluceo/ical//2.0/EN
VERSION:2.0
CALSCALE:GREGORIAN
BEGIN:VEVENT
UID:a1227cac5199a3a43db73b7726a3a5d8
DTSTAMP:20260421T193641Z
SUMMARY:A Temple Sinai Program: Temple Sinai Reads — Second Person Singul
 ar
DESCRIPTION:UJA Federation of Greater Toronto\nJewish Toronto Calendar\nhtt
 ps://jewishtoronto.com/calendar/a-temple-sinai-program-temple-sinai-reads-
 -second-person-singular-1461769248\n\nWinner of the prestigious Bernstein 
 Award\, Second Person Singular centres on an ambitious lawyer who is consi
 dered one of the best Arab criminal attorneys in Jerusalem. One day at a u
 sed bookstore\, he picks up a copy of Tolstoy’s The Kreutzer Sonata\, an
 d inside finds a love letter\, in Arabic\, in his wife’s handwriting. Co
 nsumed with suspicion and jealousy\, the lawyer hunts for the book’s pre
 vious owner—a man named Yonatan—pulling at the strings that hold all t
 heir lives together. Ti...
DTSTART;TZID=America/Toronto:20160524T193000
DTEND;TZID=America/Toronto:20160524T210000
END:VEVENT
END:VCALENDAR
