BEGIN:VCALENDAR
PRODID:-//eluceo/ical//2.0/EN
VERSION:2.0
CALSCALE:GREGORIAN
BEGIN:VEVENT
UID:5cb24b22c5e28ff1820fc509b1d045a9
DTSTAMP:20260424T164458Z
SUMMARY:A Temple Sinai Program: Sunnybrook Veterans' Service
DESCRIPTION:UJA Federation of Greater Toronto\nJewish Toronto Calendar\nhtt
 ps://jewishtoronto.com/calendar/a-temple-sinai-program-sunnybrook-veterans
 -service-1540581742\n\nA Temple Sinai Program: Sunnybrook Veterans' Servic
 e\n\nTemple Sinai will be hosting a Shabbat service for veterans at Sunnyb
 rook Hospital (2075 Bayview Avenue).\n\nTime: 9:45 a.m.\nA light lunch wil
 l be served following the service.\n\nFor more information\, visit www.tem
 plesinai.net\, call the Temple Office at 416-487-4161 or email programs@te
 mplesinai.net.
DTSTART;TZID=America/Toronto:20181124T094500
DTEND;TZID=America/Toronto:20181124T114500
END:VEVENT
END:VCALENDAR
