BEGIN:VCALENDAR
PRODID:-//eluceo/ical//2.0/EN
VERSION:2.0
CALSCALE:GREGORIAN
BEGIN:VEVENT
UID:c8d7b10a6eaba0f73e2ffb79a388bce5
DTSTAMP:20260423T204436Z
SUMMARY:A Temple Sinai Program: Sunnybrook Veterans' Service
DESCRIPTION:UJA Federation of Greater Toronto\nJewish Toronto Calendar\nhtt
 ps://jewishtoronto.com/calendar/a-temple-sinai-program-sunnybrook-veterans
 -service-1522268004\n\nA Temple Sinai Program: Sunnybrook Veterans' Servic
 e\n\nWe will be hosting a Shabbat service for veterans at Sunnybrook Hospi
 tal\, (2075 Bayview Ave.). If you know someone at Sunnybrook who would lik
 e to join our heart- warming Shabbat morning\, led by Larry Robbins and Ma
 rsha Kideckel\, please contact Frank Berns at fberns@cleanworld- wide.com.
  A light lunch will be served following the service. Time: 9:45 a.m.: Asse
 mble at the Jewish Chapel E Wing Ground Floor\; 10:00 a.m.: Service begins
 \; 11:3...
DTSTART;TZID=America/Toronto:20180414T100000
DTEND;TZID=America/Toronto:20180414T120000
END:VEVENT
END:VCALENDAR
