BEGIN:VCALENDAR
PRODID:-//eluceo/ical//2.0/EN
VERSION:2.0
CALSCALE:GREGORIAN
BEGIN:VEVENT
UID:0016a83f44ccef62074a1922b7359f6b
DTSTAMP:20260425T193831Z
SUMMARY:A Temple Sinai Program: Stratford Festival — Billy Elliot
DESCRIPTION:UJA Federation of Greater Toronto\nJewish Toronto Calendar\nhtt
 ps://jewishtoronto.com/calendar/a-temple-sinai-program-stratford-festival-
 -billy-elliot-1552665578\n\nA Temple Sinai Program: Stratford Festival —
  Billy Elliot\n\nJoin our Temple Sinai Social Club for a trip to Stratford
  Festival’s show\, Billy Elliot. With its inspirational story\, breathta
 king dance numbers and music by pop legend Elton John\, this fresh new tak
 e on the smash-hit show — reimagined for Stratford - will appeal to all.
  Cost: Temple Members: $105\; Guests: $115 (includes bus transportation fr
 om Temple Sinai\, 210 Wilson Avenue at 10:00 a.m.). Register online at www
 .templesinai.ne...
DTSTART;TZID=America/Toronto:20190626T100000
DTEND;TZID=America/Toronto:20190626T120000
END:VEVENT
END:VCALENDAR
