BEGIN:VCALENDAR
PRODID:-//eluceo/ical//2.0/EN
VERSION:2.0
CALSCALE:GREGORIAN
BEGIN:VEVENT
UID:3bedaf3864d6d3e92e788cfe21184239
DTSTAMP:20260420T011848Z
SUMMARY:A Temple Sinai Program: Sounds of Chanukkah
DESCRIPTION:UJA Federation of Greater Toronto\nJewish Toronto Calendar\nhtt
 ps://jewishtoronto.com/calendar/a-temple-sinai-program-sounds-of-chanukkah
 -1572453397\n\nA Temple Sinai Program: Sounds of ChanukkahThere is no bett
 er way to enjoy an afternoon of music than immersed in the Chanukkah tunes
  we love. Rabbi Michael Dolgin\, Cantor Charles Osborne\, and the Temple S
 inai Choir are back at the Terraces of Baycrest (55 Ameer Avenue\, Assembl
 y Room) for a melody-inspiring\, toe tapping\, song-singing afternoon.Time
 : 1:30 p.m. Light refreshments will be served.  For more information\, vis
 it us at www.templesinai.net\, call the Temple Office at 416-487-4161 or e
 m...
DTSTART;TZID=America/Toronto:20191222T133000
DTEND;TZID=America/Toronto:20191222T150000
END:VEVENT
END:VCALENDAR
