BEGIN:VCALENDAR
PRODID:-//eluceo/ical//2.0/EN
VERSION:2.0
CALSCALE:GREGORIAN
BEGIN:VEVENT
UID:4ed56a14735809839fccf19c9677ce0c
DTSTAMP:20260422T184039Z
SUMMARY:A Temple Sinai Program: Sinai Stories Hosted by Lorne Rubenstein
DESCRIPTION:UJA Federation of Greater Toronto\nJewish Toronto Calendar\nhtt
 ps://jewishtoronto.com/calendar/a-temple-sinai-program-sinai-stories-hoste
 d-by-lorne-rubenstein-1596208796\n\nA Temple Sinai Program: Sinai Stories 
 Hosted by Lorne Rubenstein Tuesday\, August 4 at 7.00 p.m. This week's Sin
 ai Stories will feature our member Joy Stewart\, who takes part in our You
 ng Families programs and Community Preschool. Sinai Stories promotes the a
 rt of storytelling through a Jewish lens. It celebrates our community’s 
 diversity and common experiences in our daily lives and at Temple Sinai. V
 isit us online at www.templesinai.net\, email programs@templesinai.net or 
 call the Temple Of...
DTSTART;TZID=America/Toronto:20200804T190000
DTEND;TZID=America/Toronto:20200804T200000
END:VEVENT
END:VCALENDAR
