BEGIN:VCALENDAR
PRODID:-//eluceo/ical//2.0/EN
VERSION:2.0
CALSCALE:GREGORIAN
BEGIN:VEVENT
UID:81111aadac152919e3281b8cd3ae6cc3
DTSTAMP:20260423T015356Z
SUMMARY:A Temple Sinai Program: Sinai Stories Hosted by Lorne Rubenstein
DESCRIPTION:UJA Federation of Greater Toronto\nJewish Toronto Calendar\nhtt
 ps://jewishtoronto.com/calendar/a-temple-sinai-program-sinai-stories-hoste
 d-by-lorne-rubenstein-1595001087\n\nA Temple Sinai Program: Sinai Stories 
 Hosted by Lorne Rubenstein Tuesday July 21 at 7.00 p.m. This week's Sinai 
 Stories will feature our member Wendy Lavine\, who will talk about her jou
 rney learning to chant Torah. Sinai Stories promotes the art of storytelli
 ng through a Jewish lens. It celebrates our community’s diversity and co
 mmon experiences in our daily lives and at Temple Sinai. Visit us online a
 t www.templesinai.net\, email programs@templesinai.net or call the Temple 
 Office 416-487-4161.
DTSTART;TZID=America/Toronto:20200721T190000
DTEND;TZID=America/Toronto:20200721T200000
END:VEVENT
END:VCALENDAR
