BEGIN:VCALENDAR
PRODID:-//eluceo/ical//2.0/EN
VERSION:2.0
CALSCALE:GREGORIAN
BEGIN:VEVENT
UID:32e4282ba81987b5489d17d10cc5a227
DTSTAMP:20260421T192855Z
SUMMARY:A Temple Sinai Program: Sinai Stories Hosted by Lorne Rubenstein
DESCRIPTION:UJA Federation of Greater Toronto\nJewish Toronto Calendar\nhtt
 ps://jewishtoronto.com/calendar/a-temple-sinai-program-sinai-stories-hoste
 d-by-lorne-rubenstein-1594401143\n\nA Temple Sinai Program: Sinai Stories 
 Hosted by Lorne Rubenstein Tuesday July 14 at 7.00 p.m. This week's Sinai 
 Stories will feature our members Alysa-Beth Engel and Gabriel Faigan\, who
  will talk about their experiences with Temple Sinai's first virtual bar m
 itzvah. Sinai Stories promotes the art of storytelling through a Jewish le
 ns. It celebrates our community’s diversity and common experiences in ou
 r daily lives and at Temple Sinai. Visit us online at www.templesinai.net\
 , email programs@...
DTSTART;TZID=America/Toronto:20200714T190000
DTEND;TZID=America/Toronto:20200714T200000
END:VEVENT
END:VCALENDAR
