BEGIN:VCALENDAR
PRODID:-//eluceo/ical//2.0/EN
VERSION:2.0
CALSCALE:GREGORIAN
BEGIN:VEVENT
UID:d83a8b6b78d6333edf9f44f7cde15130
DTSTAMP:20260422T122347Z
SUMMARY:A Temple Sinai Program: Sinai Stories Hosted by Lorne Rubenstein
DESCRIPTION:UJA Federation of Greater Toronto\nJewish Toronto Calendar\nhtt
 ps://jewishtoronto.com/calendar/a-temple-sinai-program-sinai-stories-hoste
 d-by-lorne-rubenstein-1592587142\n\nA Temple Sinai Program: Sinai Stories 
 Hosted by Lorne Rubenstein Tuesday June 23 at 7.00 p.m. This week's Sinai 
 Stories will feature Mitchell Shnier. Sinai Stories promotes the art of st
 orytelling from a Jewish lens. It celebrates our community’s diversity a
 nd common experiences in our daily lives and at Temple Sinai. Visit us onl
 ine at www.templesinai.net\, email programs@templesinai.net or call the Te
 mple Office 416-487-4161.
DTSTART;TZID=America/Toronto:20200623T190000
DTEND;TZID=America/Toronto:20200623T200000
END:VEVENT
END:VCALENDAR
