BEGIN:VCALENDAR
PRODID:-//eluceo/ical//2.0/EN
VERSION:2.0
CALSCALE:GREGORIAN
BEGIN:VEVENT
UID:759d6c50e4765b493c6c36f041c454f3
DTSTAMP:20260425T150949Z
SUMMARY:A Temple Sinai Program: Sinai Stories Hosted by Lorne Rubenstein
DESCRIPTION:UJA Federation of Greater Toronto\nJewish Toronto Calendar\nhtt
 ps://jewishtoronto.com/calendar/a-temple-sinai-program-sinai-stories-hoste
 d-by-lorne-rubenstein-1591965802\n\nThis week's Sinai Stories will feature
  Jesse Primerano\, who is very involved in Temple life. His path to Jewish
  leadership began as a Temple Sinai teen and now he is our youth leader! W
 e hope you enjoy his story. Sinai Stories promotes the art of storytelling
  from a Jewish lens. It celebrates our community’s diversity and common 
 experiences in our daily lives and at Temple Sinai. For more information\,
  visit us online at www.templesinai.net\, email programs@templesinai.net o
 r call the Temple ...
DTSTART;TZID=America/Toronto:20200616T190000
DTEND;TZID=America/Toronto:20200616T200000
END:VEVENT
END:VCALENDAR
