BEGIN:VCALENDAR
PRODID:-//eluceo/ical//2.0/EN
VERSION:2.0
CALSCALE:GREGORIAN
BEGIN:VEVENT
UID:6dd5d8110c00d7db8fb221174f0b0297
DTSTAMP:20260425T190348Z
SUMMARY:A Temple Sinai Program: Sha-at Ivrit for Beginners
DESCRIPTION:UJA Federation of Greater Toronto\nJewish Toronto Calendar\nhtt
 ps://jewishtoronto.com/calendar/a-temple-sinai-program-sha-at-ivrit-for-be
 ginners-1633711158\n\nA Temple Sinai Program: Sha-at Ivrit for Beginners T
 hursdays\, October 21 to December 3 at 4:00 p.m. Temple Sinai’s Adult He
 brew Academy with Carmella Cohen Learn prayer-based Hebrew with a welcomin
 g community of learners From aleph to tav\, let's start at the beginning a
 nd explore Hebrew together! This class will focus on letters and basic con
 cepts. You'll be following the siddur in no time. No background is necessa
 ry.Cost: Non-Members: $100 for 10 weeks Beginners Material Cost: $50 (one-
 tim...
DTSTART;TZID=America/Toronto:20211021T160000
DTEND;TZID=America/Toronto:20211021T170000
END:VEVENT
END:VCALENDAR
