BEGIN:VCALENDAR
PRODID:-//eluceo/ical//2.0/EN
VERSION:2.0
CALSCALE:GREGORIAN
BEGIN:VEVENT
UID:ec3407b66ec8b757117bce8603f1760a
DTSTAMP:20260424T224431Z
SUMMARY:A Temple Sinai Program: Sha-at Ivrit -Temple Sinai’s Adult Hebrew
  Academy
DESCRIPTION:UJA Federation of Greater Toronto\nJewish Toronto Calendar\nhtt
 ps://jewishtoronto.com/calendar/a-temple-sinai-program-sha-at-ivrit--templ
 e-sinais-adult-hebrew-academy-1610987769\n\nA Temple Sinai Program: Sha-at
  Ivrit -Temple Sinai’s Adult Hebrew Academy with Carmella Cohen Learn pr
 ayer-based Hebrew with a welcoming community of learners NEW! Beginners He
 brew  Wednesdays\, January 20 to March 24 at 4.00 p.m. From Aleph to Tav\,
  let's start at the beginning and explore Hebrew together! This class will
  focus on letters and basic concepts. No background necessary.
DTSTART;TZID=America/Toronto:20210120T160000
DTEND;TZID=America/Toronto:20210120T180000
END:VEVENT
END:VCALENDAR
