BEGIN:VCALENDAR
PRODID:-//eluceo/ical//2.0/EN
VERSION:2.0
CALSCALE:GREGORIAN
BEGIN:VEVENT
UID:bb23f7c71a6b8f6a232e80ead08d4e08
DTSTAMP:20260425T133521Z
SUMMARY:A Temple Sinai Program: Second Annual Harvey Atkin Purim Comedy Com
 petition
DESCRIPTION:UJA Federation of Greater Toronto\nJewish Toronto Calendar\nhtt
 ps://jewishtoronto.com/calendar/a-temple-sinai-program-second-annual-harve
 y-atkin-purim-comedy-competition-1612460257\n\nA Temple Sinai Program: Sec
 ond Annual Harvey Atkin Purim Comedy Competition Thursday\, February 25 at
  8.00 p.m. Canada's top Jewish comedians will keep you laughing at this vi
 rtual comedy competition. New this year: Viewers to vote on the winner! He
 adliner\, Jacob Balshin\; MC\, Humble Howard and Greetings from Celia Atki
 n. Comedians: Ben Bankas\, Jeremy Dobski\, Ronen Geisler\, Heather Gold\, 
 Maxine Grossman\, Janice Israeloff\, Laura Leibow\, Simon Rakoff and Benji
  Rothman. This program is sponsored i...
DTSTART;TZID=America/Toronto:20210225T200000
DTEND;TZID=America/Toronto:20210225T210000
END:VEVENT
END:VCALENDAR
