BEGIN:VCALENDAR
PRODID:-//eluceo/ical//2.0/EN
VERSION:2.0
CALSCALE:GREGORIAN
BEGIN:VEVENT
UID:9e111d426214796d9546737a4b4e2ed8
DTSTAMP:20260426T035815Z
SUMMARY:A Temple Sinai Program — Pre-Shabbat Musical Series - 1
DESCRIPTION:UJA Federation of Greater Toronto\nJewish Toronto Calendar\nhtt
 ps://jewishtoronto.com/calendar/a-temple-sinai-program-pre-shabbat-musical
 -series-1\n\nJust as Torah has travelled great distances\, so too has our 
 approach to Jewish music. Cantor Osborne will explore the most recent deve
 lopments in Jewish music with thought-provoking questions: How do we maint
 ain our sense of tradition with modern styles? How do secular trends impac
 t liturgy? What innovations are happening in Israel? The class will includ
 e musical examples and special guests. Time: 8:45 a.m. 210 Wilson Avenue.
DTSTART;TZID=America/Toronto:20160130T084500
DTEND;TZID=America/Toronto:20160130T120000
END:VEVENT
END:VCALENDAR
