BEGIN:VCALENDAR
PRODID:-//eluceo/ical//2.0/EN
VERSION:2.0
CALSCALE:GREGORIAN
BEGIN:VEVENT
UID:af5a84f2f8c04853ae154de11731b5d4
DTSTAMP:20260425T025532Z
SUMMARY:A Temple Sinai Program: Passover Concert at the Terraces of Baycres
 t
DESCRIPTION:UJA Federation of Greater Toronto\nJewish Toronto Calendar\nhtt
 ps://jewishtoronto.com/calendar/a-temple-sinai-program-passover-concert-at
 -the-terraces-of-baycrest-1582746488\n\nA Temple Sinai Program: Passover C
 oncert at the Terraces of Baycrest\n\nJoin our clergy and Temple Sinai Ens
 emble Choir for a festive concert focusing on the theme of emerging from s
 lavery and embracing our freedom. You will leave eager for matzah and insp
 ired for the approaching festival! Assembly Room\, Terraces of Baycrest\, 
 55 Ameer Avenue\; Time: 1:30 p.m.\nFor more information\, visit us at www.
 templesinai.net or call the Temple Office at 416-487-4161.
DTSTART;TZID=America/Toronto:20200315T133000
DTEND;TZID=America/Toronto:20200315T150000
END:VEVENT
END:VCALENDAR
