BEGIN:VCALENDAR
PRODID:-//eluceo/ical//2.0/EN
VERSION:2.0
CALSCALE:GREGORIAN
BEGIN:VEVENT
UID:1d81053c913531ee4559135c94943d7f
DTSTAMP:20260425T154632Z
SUMMARY:A Temple Sinai Program: Passover Concert at the Terraces of Baycres
 t
DESCRIPTION:UJA Federation of Greater Toronto\nJewish Toronto Calendar\nhtt
 ps://jewishtoronto.com/calendar/a-temple-sinai-program-passover-concert-at
 -the-terraces-of-baycrest-1552657085\n\nA Temple Sinai Program: Passover C
 oncert at the Terraces of Baycrest\n\nLet’s get in the Passover spirit. 
 Join our clergy and the Temple Sinai Ensemble Choir for a festive concert 
 focusing on the theme of emerging from slavery and embracing our freedom. 
 You will leave eager for matzah and inspired for the approaching festival!
  For more information call the Temple Office at 416-487-4161 or email prog
 rams@templesinai.net.
DTSTART;TZID=America/Toronto:20190414T133000
DTEND;TZID=America/Toronto:20190414T153000
END:VEVENT
END:VCALENDAR
