BEGIN:VCALENDAR
PRODID:-//eluceo/ical//2.0/EN
VERSION:2.0
CALSCALE:GREGORIAN
BEGIN:VEVENT
UID:b22cc975b551e94d067d739b72c44e48
DTSTAMP:20260420T035449Z
SUMMARY:A Temple Sinai Program: NextGen (20s and 30s) Candle Lighting
DESCRIPTION:UJA Federation of Greater Toronto\nJewish Toronto Calendar\nhtt
 ps://jewishtoronto.com/calendar/a-temple-sinai-program-nextgen-20s-and-30s
 -candle-lighting-1614963266\n\nA Temple Sinai Program: NextGen (20s and 30
 s) Candle Lighting  Friday\, March 12 at 7.00 p.m.Join Rabbi Shaner and ot
 her young professionals for this opportunity to connect\, reflect\, and we
 lcome Shabbat!For more information and to register visit us at www.temples
 inai.net\, call the Temple office at 416-487-4161 or email programs@temple
 sinai.net.
DTSTART;TZID=America/Toronto:20210312T190000
DTEND;TZID=America/Toronto:20210312T193000
END:VEVENT
END:VCALENDAR
