BEGIN:VCALENDAR
PRODID:-//eluceo/ical//2.0/EN
VERSION:2.0
CALSCALE:GREGORIAN
BEGIN:VEVENT
UID:66f9cd37966c7961838737c8c060037d
DTSTAMP:20260425T194500Z
SUMMARY:A Temple Sinai Program: Musical Mondays Hosted by David Eisner
DESCRIPTION:UJA Federation of Greater Toronto\nJewish Toronto Calendar\nhtt
 ps://jewishtoronto.com/calendar/a-temple-sinai-program-musical-mondays-hos
 ted-by-david-eisner-1596812429\n\nMusical and artistic creativity have bee
 n integral parts of the Temple Sinai experience since the beginning. This 
 series gives our members an opportunity to meet some of the talented artis
 ts from our Temple family who have contributed in the past and will join u
 s for a new Musical Mondays tradition! Join us this Monday\, August 10 for
  a Musical Mondays interview with Avery Saltzman and David Eisner intervie
 w by Cantor Charles Osborne. For more information visit us online at www.t
 emplesinai.net...
DTSTART;TZID=America/Toronto:20200810T140000
DTEND;TZID=America/Toronto:20200810T150000
END:VEVENT
END:VCALENDAR
