BEGIN:VCALENDAR
PRODID:-//eluceo/ical//2.0/EN
VERSION:2.0
CALSCALE:GREGORIAN
BEGIN:VEVENT
UID:e9475ee567a15d31e99a7fa66a161957
DTSTAMP:20260425T201742Z
SUMMARY:A Temple Sinai Program: Musical Mondays Hosted by David Eisner
DESCRIPTION:UJA Federation of Greater Toronto\nJewish Toronto Calendar\nhtt
 ps://jewishtoronto.com/calendar/a-temple-sinai-program-musical-mondays-hos
 ted-by-david-eisner-1596208677\n\nA Temple Sinai Program: Musical Mondays 
 Hosted by David Eisner Monday\, August 3 at 2.00 p.m. Musical and artistic
  creativity have been integral parts of the Temple Sinai experience since 
 the beginning. This series gives our members an opportunity to meet some o
 f the talented artists from our Temple family who have contributed in the 
 past and will join us for a new Musical Mondays tradition! Join us this Mo
 nday\, August 3 for a Musical Mondays interview with our member\, guitaris
 t and vocalist D...
DTSTART;TZID=America/Toronto:20200803T140000
DTEND;TZID=America/Toronto:20200803T150000
END:VEVENT
END:VCALENDAR
