BEGIN:VCALENDAR
PRODID:-//eluceo/ical//2.0/EN
VERSION:2.0
CALSCALE:GREGORIAN
BEGIN:VEVENT
UID:c72f10ab9f7eb142ddd6d7270b85868e
DTSTAMP:20260425T182502Z
SUMMARY:A Temple Sinai Program: Musical Mondays Hosted by David Eisner
DESCRIPTION:UJA Federation of Greater Toronto\nJewish Toronto Calendar\nhtt
 ps://jewishtoronto.com/calendar/a-temple-sinai-program-musical-mondays-hos
 ted-by-david-eisner-1595855544\n\nA Temple Sinai Program: Musical Mondays 
 Hosted by David Eisner Monday\, July 27 at 2.00 p.m. Musical and artistic 
 creativity have been integral parts of the Temple Sinai experience since t
 he beginning. This series gives our members an opportunity to meet some of
  the talented artists from our Temple family who have contributed in the p
 ast and will join us for a new Musical Mondays tradition! Join us this Mon
 day\, July 27 for a Musical Mondays interview with our Musical Legacy Awar
 d winner Dramat...
DTSTART;TZID=America/Toronto:20200727T020000
DTEND;TZID=America/Toronto:20200727T150000
END:VEVENT
END:VCALENDAR
