BEGIN:VCALENDAR
PRODID:-//eluceo/ical//2.0/EN
VERSION:2.0
CALSCALE:GREGORIAN
BEGIN:VEVENT
UID:91638710b60bc35f5d5ff86a1e980da7
DTSTAMP:20260422T195325Z
SUMMARY:A Temple Sinai Program: Musical Mondays Hosted by David Eisner
DESCRIPTION:UJA Federation of Greater Toronto\nJewish Toronto Calendar\nhtt
 ps://jewishtoronto.com/calendar/a-temple-sinai-program-musical-mondays-hos
 ted-by-david-eisner-1594999804\n\nA Temple Sinai Program: Musical Mondays 
 Hosted by David Eisner Monday\, July 20 at 2.00 p.m. Musical and artistic 
 creativity have been integral parts of the Temple Sinai experience since t
 he beginning. This series gives our members an opportunity to meet some of
  the talented artists from our Temple family who have contributed in the p
 ast and will join us for a new Musical Mondays tradition! Join us this Mon
 day\, July 13 for a Musical Mondays interview with Mark Camilleri\, who ha
 s musically dire...
DTSTART;TZID=America/Toronto:20200720T140000
DTEND;TZID=America/Toronto:20200720T160000
END:VEVENT
END:VCALENDAR
