BEGIN:VCALENDAR
PRODID:-//eluceo/ical//2.0/EN
VERSION:2.0
CALSCALE:GREGORIAN
BEGIN:VEVENT
UID:74fb915a680697f954cdb4136b2b8e7a
DTSTAMP:20260423T213819Z
SUMMARY:A Temple Sinai Program: Multigenerational Megillah Reading
DESCRIPTION:UJA Federation of Greater Toronto\nJewish Toronto Calendar\nhtt
 ps://jewishtoronto.com/calendar/a-temple-sinai-program-multigenerational-m
 egillah-reading-1612460128\n\nA Temple Sinai Program: Multigenerational Me
 gillah Reading - Mordechai Jones and Temple of Zoom Thursday\, February 25
  at 7.00 p.m. Please join us for the Reading of the Megillah by Rabbi Jord
 an Shaner\, Cantor Sharon Brown-Levy\, and Judith Miller. For more informa
 tion about all our Purim programs visit our website https://templesinai.ne
 t/worship/virtual-purim-2021/ call the Temple Office at 416-487-4161 or em
 ail programs@templesinai.net.
DTSTART;TZID=America/Toronto:20210225T190000
DTEND;TZID=America/Toronto:20210225T200000
END:VEVENT
END:VCALENDAR
