BEGIN:VCALENDAR
PRODID:-//eluceo/ical//2.0/EN
VERSION:2.0
CALSCALE:GREGORIAN
BEGIN:VEVENT
UID:d72c168e44c589ef793ce911ee329581
DTSTAMP:20260422T171254Z
SUMMARY:A Temple Sinai Program: Knishes and Grits — Harold Green Jewish T
 heatre
DESCRIPTION:UJA Federation of Greater Toronto\nJewish Toronto Calendar\nhtt
 ps://jewishtoronto.com/calendar/a-temple-sinai-program-knishes-and-grits--
 harold-green-jewish-theatre-1551790280\n\nSunday\, May 5\nA Temple Sinai P
 rogram: Knishes and Grits — Harold Green Jewish Theatre Company Talk Bac
 k\n\nJoin this musical journey from the ghettos to the top of the charts. 
 Come celebrate the music of the Gershwins\, Irving Berlin\, Rodgers and Ha
 mmerstein\, Lena Horne\, Sammy Davis Jr.\, Barbra Streisand\, Sophie Tucke
 r\, and many more. Director Avery Saltzman will join performers in convers
 ation and song\, looking ahead to this upcoming production. Time: 10:15 a.
 m. This program is free and op...
DTSTART;TZID=America/Toronto:20190505T101500
DTEND;TZID=America/Toronto:20190505T120000
END:VEVENT
END:VCALENDAR
