BEGIN:VCALENDAR
PRODID:-//eluceo/ical//2.0/EN
VERSION:2.0
CALSCALE:GREGORIAN
BEGIN:VEVENT
UID:5565eb8d2c0e61ac23f2ca5648c900da
DTSTAMP:20260422T090146Z
SUMMARY:A Temple Sinai Program: Guided Meditation with Rabbi Sue Oren
DESCRIPTION:UJA Federation of Greater Toronto\nJewish Toronto Calendar\nhtt
 ps://jewishtoronto.com/calendar/a-temple-sinai-program-guided-meditation-w
 ith-rabbi-sue-oren-1593179829\n\nJoin this break - from work\, solitude\, 
 home-schooling\, screen time - and share focused quiet through meditation.
  Let’s take a seat and find our breath through insights and melodies fro
 m Jewish tradition. Since her ordination from HUC-JIR in 1992\, Rabbi Sue 
 Oren has been an adult educator on Jewish\, interfaith and secular topics:
  primarily in NYC\, Tel Aviv (2008-2012) and as a visiting teacher from Am
 sterdam to Rome\, Costa Rica to Tasmania. Rabbi Oren’s approach to Jewis
 h meditation draws ...
DTSTART;TZID=America/Toronto:20200702T123000
DTEND;TZID=America/Toronto:20200702T133000
END:VEVENT
END:VCALENDAR
