BEGIN:VCALENDAR
PRODID:-//eluceo/ical//2.0/EN
VERSION:2.0
CALSCALE:GREGORIAN
BEGIN:VEVENT
UID:6e94aa853edd7439d2b38d48b57bd6d9
DTSTAMP:20260421T183910Z
SUMMARY:A Temple Sinai Program: Financial Literacy — Ten Healthy Financia
 l Habits
DESCRIPTION:UJA Federation of Greater Toronto\nJewish Toronto Calendar\nhtt
 ps://jewishtoronto.com/calendar/a-temple-sinai-program-financial-literacy-
 -ten-healthy-financial-habits-1540581194\n\nA Temple Sinai Program: Financ
 ial Literacy — Ten Healthy Financial Habits\n\nGet ready to examine ten 
 healthy financial habits with our member Stan Swartz that will improve the
  way you manage your finances. You can’t afford to miss it!\n\nTime: 7:0
 0 p.m.\nNo charge.\n\nFor more information\, visit www.templesinai.net\, c
 all the Temple Office at 416-487-4161 or email programs@templesinai.net. 
DTSTART;TZID=America/Toronto:20181121T190000
DTEND;TZID=America/Toronto:20181121T210000
END:VEVENT
END:VCALENDAR
