BEGIN:VCALENDAR
PRODID:-//eluceo/ical//2.0/EN
VERSION:2.0
CALSCALE:GREGORIAN
BEGIN:VEVENT
UID:cb419702aebfcb9e3d73384aa5cfe937
DTSTAMP:20260424T044525Z
SUMMARY:A Temple Sinai Program: Exploring our Musical Legacy
DESCRIPTION:UJA Federation of Greater Toronto\nJewish Toronto Calendar\nhtt
 ps://jewishtoronto.com/calendar/a-temple-sinai-program-exploring-our-music
 al-legacy-1519159214\n\nA Temple Sinai Program: Exploring our Musical Lega
 cy\n\nIn 1973\, Ben Steinberg proudly presented Temple Sinai’s state-of-
 the-art Saville Electronic Organ. Over four decades later\, this musical w
 orkhorse\, still a central part of our High Holy Days worship\, was refurb
 ished to 21st Century standards. Cantor Charles Osborne will be joined by 
 the Temple Sinai Ensemble Choir for a demonstration of the beauty and abil
 ities of this versatile instrument. This concert is free and open to the 
 public....
DTSTART;TZID=America/Toronto:20180415T150000
DTEND;TZID=America/Toronto:20180415T163000
END:VEVENT
END:VCALENDAR
