BEGIN:VCALENDAR
PRODID:-//eluceo/ical//2.0/EN
VERSION:2.0
CALSCALE:GREGORIAN
BEGIN:VEVENT
UID:d0d6ecc841fcabcdfb82f5929471971d
DTSTAMP:20260420T025106Z
SUMMARY:A Temple Sinai Program: Exploring Jewish Criminal Law with Rabbi En
 glander
DESCRIPTION:UJA Federation of Greater Toronto\nJewish Toronto Calendar\nhtt
 ps://jewishtoronto.com/calendar/a-temple-sinai-program-exploring-jewish-cr
 iminal-law-with-rabbi-englander-1612544897\n\nA Temple Sinai Program: Expl
 oring Jewish Criminal Law with Rabbi Lawrence Englander  Wednesdays\, Febr
 uary 10\, 17 and 24 at 7.00 p.m. Did you know that the Talmudic Rabbis als
 o served as judges\, and their rulings helped to form the basis of Western
  law? Do you want to learn more? In this fascinating four-part learning se
 ries filled with rich discussion\, Rabbi Englander will explore the Mishna
 h: civil and criminal law in Judaism. For more information visit our websi
 te at www.templesinai.net\, ca...
DTSTART;TZID=America/Toronto:20210210T190000
DTEND;TZID=America/Toronto:20210210T200000
END:VEVENT
END:VCALENDAR
