BEGIN:VCALENDAR
PRODID:-//eluceo/ical//2.0/EN
VERSION:2.0
CALSCALE:GREGORIAN
BEGIN:VEVENT
UID:d5b0da0ba12d8cc09ad291c8937204ed
DTSTAMP:20260422T192752Z
SUMMARY:A Temple Sinai Program: Erev Seventh Day Pesach Musical Service
DESCRIPTION:UJA Federation of Greater Toronto\nJewish Toronto Calendar\nhtt
 ps://jewishtoronto.com/calendar/a-temple-sinai-program-erev-seventh-day-pe
 sach-musical-service-1552657438\n\nA Temple Sinai Program: Erev Seventh Da
 y Pesach Musical Service\n\nAs we get ready to put away the matzah for ano
 ther year\, let’s join our friends at Sunrise of Thornhill (484 Steeles 
 Ave. W.) for a musical service marking the end of Passover. With prayer an
 d song\, we’ll celebrate the festival of freedom alongside our clergy an
 d the Temple Sinai Ensemble Choir. For more information call the Temple Of
 fice at 416-487-4161 or email programs@templesinai.net.
DTSTART;TZID=America/Toronto:20190425T153000
DTEND;TZID=America/Toronto:20190425T170000
END:VEVENT
END:VCALENDAR
