BEGIN:VCALENDAR
PRODID:-//eluceo/ical//2.0/EN
VERSION:2.0
CALSCALE:GREGORIAN
BEGIN:VEVENT
UID:619c45151b48ccec441066db426acea9
DTSTAMP:20260421T205835Z
SUMMARY:A Temple Sinai Program: Dear Zealots — Letters from a Divided Lan
 d
DESCRIPTION:UJA Federation of Greater Toronto\nJewish Toronto Calendar\nhtt
 ps://jewishtoronto.com/calendar/a-temple-sinai-program-dear-zealots--lette
 rs-from-a-divided-land-1551789845\n\nA Temple Sinai Program: Dear Zealots 
 — Letters from a Divided Land\n\nJust weeks before his passing\, acclaim
 ed author Amos Oz released an incomparable series of essays on the univers
 al nature of fanaticism and its possible cures\, Jewish roots of humanism 
 and the need for a secular pride in Israel\, and the geopolitical standing
  of Israel in the wider Middle East and internationally. Dear Zealots is c
 lassic Amos Oz — fluid\, rich\, masterly\, and perfectly timed for a wor
 ld in which polarizati...
DTSTART;TZID=America/Toronto:20190427T123000
DTEND;TZID=America/Toronto:20190427T133000
END:VEVENT
END:VCALENDAR
