BEGIN:VCALENDAR
PRODID:-//eluceo/ical//2.0/EN
VERSION:2.0
CALSCALE:GREGORIAN
BEGIN:VEVENT
UID:c702eb397e14962d1b7d9197181f9a57
DTSTAMP:20260423T153750Z
SUMMARY:A Temple Sinai Program: Celebrate Israel 68th
DESCRIPTION:UJA Federation of Greater Toronto\nJewish Toronto Calendar\nhtt
 ps://jewishtoronto.com/calendar/a-temple-sinai-program-celebrate-israel-68
 th-1461767240\n\nJoin us for food\, laughter and lots of fun! From wildern
 ess to waves\, experience Israel’s diversity through hors d’oeuvres\, 
 wine\, and food. Celebrate current Israeli musical hits\, thought-provokin
 g poetry and readings. See Temple Sinai’s shared projects and unique tra
 vel experiences in Israel. Communal Shabbat Service and Dinner: Time: 7:00
  p.m. to 9:00 p.m. Cost: Members: $25\; Non-members: $32. Register online 
 at www.templesinai.net\, call the Temple Office at 416-487-4161 or email p
 rogra...
DTSTART;TZID=America/Toronto:20160513T190000
DTEND;TZID=America/Toronto:20160513T210000
END:VEVENT
END:VCALENDAR
