BEGIN:VCALENDAR
PRODID:-//eluceo/ical//2.0/EN
VERSION:2.0
CALSCALE:GREGORIAN
BEGIN:VEVENT
UID:e5661e3f884c22950431c1d7ce7e5e3a
DTSTAMP:20260422T060345Z
SUMMARY:A Temple Sinai Program: Book Break - Reading followed by Q&A
DESCRIPTION:UJA Federation of Greater Toronto\nJewish Toronto Calendar\nhtt
 ps://jewishtoronto.com/calendar/a-temple-sinai-program-book-break---readin
 g-followed-by-qa-1588946603\n\nA Temple Sinai Program: Book Break - Readin
 g followed by Q&A\nHarvey Milk: His Many Lives and Death by Lillian Faderm
 an\nWednesday\, May 27 at 7.00 p.m.\nOne of the Yale University Press Jewi
 sh Lives series\, this book "lays a compelling foundation for building our
  understanding of Milk's life on how Yiddishkeit - Jewish customs and cult
 ure - informed his relentless quest\, as he implored\, to "burst down thos
 e closet doors once and for all." Washington Post. Among her many honours\
 , Lillian Fader...
DTSTART;TZID=America/Toronto:20200527T190000
DTEND;TZID=America/Toronto:20200527T203000
END:VEVENT
END:VCALENDAR
