BEGIN:VCALENDAR
PRODID:-//eluceo/ical//2.0/EN
VERSION:2.0
CALSCALE:GREGORIAN
BEGIN:VEVENT
UID:222a61780513374a011d4eb8156c90cb
DTSTAMP:20260421T165714Z
SUMMARY:A Temple Sinai Program: Ben Steinberg Musical Legacy Award Concert
DESCRIPTION:UJA Federation of Greater Toronto\nJewish Toronto Calendar\nhtt
 ps://jewishtoronto.com/calendar/a-temple-sinai-program-ben-steinberg-music
 al-legacy-award-concert-1552663711\n\nA Temple Sinai Program: Ben Steinber
 g Musical Legacy Award Concert\nWe Proudly Announce Daniel Temnik\, the Wi
 nner of the 2019 Ben Steinberg Musical Legacy Award. Praised by audiences 
 and musicians alike for his radiant tone\, commanding technique and musica
 l depth\, Israeli-Canadian\, award-winning violinist Daniel Temnik is swif
 tly establishing himself at the forefront of prominent young Canadian musi
 cal artists. In its 35th year\, the Ben Steinberg Musical Legacy Award was
  established to encour...
DTSTART;TZID=America/Toronto:20190513T200000
DTEND;TZID=America/Toronto:20190513T220000
END:VEVENT
END:VCALENDAR
