BEGIN:VCALENDAR
PRODID:-//eluceo/ical//2.0/EN
VERSION:2.0
CALSCALE:GREGORIAN
BEGIN:VEVENT
UID:1a18ce134f1174c59654e8052e25f7e8
DTSTAMP:20260423T074200Z
SUMMARY:A Temple Sinai Program: Bar Mitzvah Boy Harold Green Talk Back Seri
 es
DESCRIPTION:UJA Federation of Greater Toronto\nJewish Toronto Calendar\nhtt
 ps://jewishtoronto.com/calendar/a-temple-sinai-program-bar-mitzvah-boy-har
 old-green-talk-back-series-1540580758\n\nA Temple Sinai Program: Bar Mitzv
 ah Boy Harold Green Talk Back Series\n\nJoey is a successful lawyer who is
  used to things going his way. When in his 60s\, he suddenly decides he ne
 eds a bar mitzvah\, what begins as a simple item on his to-do list becomes
  a deep immersion in the necessity of faith and the meaning behind rituals
 .\n\nOur congregation is full of real life Joeys who have opted to have a 
 bar/bat mitzvah as an adult. As we hear about this Canadian hit production
 \, we’ll also visit t...
DTSTART;TZID=America/Toronto:20181118T101500
DTEND;TZID=America/Toronto:20181118T121500
END:VEVENT
END:VCALENDAR
