BEGIN:VCALENDAR
PRODID:-//eluceo/ical//2.0/EN
VERSION:2.0
CALSCALE:GREGORIAN
BEGIN:VEVENT
UID:a6e1b2b00864d7912cac5ae1a96bd1a0
DTSTAMP:20260423T191033Z
SUMMARY:A Temple Sinai Program: Babysitting Like a Mensch!
DESCRIPTION:UJA Federation of Greater Toronto\nJewish Toronto Calendar\nhtt
 ps://jewishtoronto.com/calendar/a-temple-sinai-program-babysitting-like-a-
 mensch-1540580995\n\nA Temple Sinai Program: Babysitting Like a Mensch!\n\
 nJoin other Temple friends\, ages 11 to 14 years old\, to take the Babysit
 ting Course\, given by St. John Ambulance.\n\nBecome a successful babysitt
 er\;\nFind out how to care for infants\, toddler and school-aged children\
 ;\nLearn about healthy meals safe play\, diapers\, playtime and more\;\nDi
 scover how to handle emergencies and learn about prevention and basic firs
 t aid\;\nLearn to care for a sick or injured child.\n\nStudents must bring
  a stuffed a...
DTSTART;TZID=America/Toronto:20181118T091500
DTEND;TZID=America/Toronto:20181118T163000
END:VEVENT
END:VCALENDAR
