BEGIN:VCALENDAR
PRODID:-//eluceo/ical//2.0/EN
VERSION:2.0
CALSCALE:GREGORIAN
BEGIN:VEVENT
UID:872dc62145c39a0e183ee97b0f068fa0
DTSTAMP:20260422T232215Z
SUMMARY:A Temple Sinai Program: At Home with the President
DESCRIPTION:UJA Federation of Greater Toronto\nJewish Toronto Calendar\nhtt
 ps://jewishtoronto.com/calendar/a-temple-sinai-program-at-home-with-the-pr
 esident-1595855958\n\nA Temple Sinai Program: At Home with the President\n
 Thursday\, July 30 at 7.30 p.m.\nTemple life doesn't pause\, even during a
  pandemic. With the landscape changing daily\, Temple Sinai is navigating 
 a path forward. Join Temple President Shari Zuckerman\, Rabbi Michael Dolg
 in and Executive Director Rayner Conway\, who will share their experiences
  of leading our congregation during COVID-19. In this Q&A\, learn about ho
 w Temple Sinai continues to prioritize health and safety\, engage our cong
 regation...
DTSTART;TZID=America/Toronto:20200730T193000
DTEND;TZID=America/Toronto:20200730T203000
END:VEVENT
END:VCALENDAR
