BEGIN:VCALENDAR
PRODID:-//eluceo/ical//2.0/EN
VERSION:2.0
CALSCALE:GREGORIAN
BEGIN:VEVENT
UID:dad13e4dd989fd1ec819c47916e85976
DTSTAMP:20260423T083247Z
SUMMARY:A Temple Sinai Program: Amy Sky
DESCRIPTION:UJA Federation of Greater Toronto\nJewish Toronto Calendar\nhtt
 ps://jewishtoronto.com/calendar/a-temple-sinai-program-amy-sky-1461769007\
 n\nSky in the City an urban Jewish concert experience. Amy will perform ma
 terial from her new Hebrew CD Twilight Rose\, her beloved radio hits\, and
  share insights and stories from her own spiritual journey. Time: 8:00 p.m
 . The concert is free and open to the public. This concert is made possibl
 e through a gift from the Robert & Anne Strom Memorial Fund. For more info
 rmation\, please call the Temple Office at 416-487-4161 or email programs@
 templesinai.net. 210 Wilson Avenue.
DTSTART;TZID=America/Toronto:20160519T200000
DTEND;TZID=America/Toronto:20160519T213000
END:VEVENT
END:VCALENDAR
