BEGIN:VCALENDAR
PRODID:-//eluceo/ical//2.0/EN
VERSION:2.0
CALSCALE:GREGORIAN
BEGIN:VEVENT
UID:5052217958d621a7cfaa8deaa4928f13
DTSTAMP:20260419T200426Z
SUMMARY:A Temple Sinai Program: Aloha! A Young Families Havdalah
DESCRIPTION:UJA Federation of Greater Toronto\nJewish Toronto Calendar\nhtt
 ps://jewishtoronto.com/calendar/a-temple-sinai-program-aloha-a-young-famil
 ies-havdalah-1555441495\n\nA Temple Sinai Program: Aloha! A Young Families
  Havdalah\n\nTime to get ready for summer with some fun Havdalah beach tim
 e - Hawaiian Style! Don’t miss out on this beautiful opportunity to ligh
 t the Havdalah candles in the sand\, have a pizza party court side\, enjoy
  some sand activities and wear your best hula/ Hawaiian outfit. One court 
 for the little players who prefer the shovel and pails\; One court for tho
 se older kids and adults who want to play volleyball. Beach Blast: 15 Lesw
 yn Road. ...
DTSTART;TZID=America/Toronto:20190511T163000
DTEND;TZID=America/Toronto:20190511T183000
END:VEVENT
END:VCALENDAR
