BEGIN:VCALENDAR
PRODID:-//eluceo/ical//2.0/EN
VERSION:2.0
CALSCALE:GREGORIAN
BEGIN:VEVENT
UID:4a3305d55680e80400201b31fb2d8efd
DTSTAMP:20260422T031003Z
SUMMARY:A Temple Sinai Program — Age-ing to Sage-ing with Ralph Benmergui
DESCRIPTION:UJA Federation of Greater Toronto\nJewish Toronto Calendar\nhtt
 ps://jewishtoronto.com/calendar/a-temple-sinai-program-age-ing-to-sage-ing
 -with-ralph-benmergui\n\nWhat can we look forward to as we age? How can we
  improve the quality of the autumn and winter of our Jewish lives? Based o
 n the wisdom of Rabbi Zalman Schacter Shalomi\, discover the secret behind
  creating a life that is full of adventure\, passion\, mystery\, and fulfi
 llment. Ralph Benmergui is best known as broadcaster\, host and journalist
 . Ralph has been an executive advisor to political leaders of different st
 ripes and has been recently ordained as a Mashpi'ah\, a Jewish Spiritual D
 irector. T...
DTSTART;TZID=America/Toronto:20170910T101500
DTEND;TZID=America/Toronto:20170910T120000
END:VEVENT
END:VCALENDAR
