BEGIN:VCALENDAR
PRODID:-//eluceo/ical//2.0/EN
VERSION:2.0
CALSCALE:GREGORIAN
BEGIN:VEVENT
UID:032a767e3591768f620795e28d633932
DTSTAMP:20260419T205523Z
SUMMARY:A Temple Sinai Program: Affirming Every Voice in Media and Beyond
DESCRIPTION:UJA Federation of Greater Toronto\nJewish Toronto Calendar\nhtt
 ps://jewishtoronto.com/calendar/a-temple-sinai-program-affirming-every-voi
 ce-in-media-and-beyond-1519157240\n\nAs Jews\, we are conscious of the imp
 ortance of appropriate representations in TV and film. Behind the scenes\,
  recent headlines have revealed hurtful and oppressive behaviour directed 
 primarily towards women. Join actresses Christina Song (Kim’s Convenienc
 e)\, Arlene Duncan (Suits and Degrassi: Next Generation) and Theresa Tova 
 (E.N.G and Ragtime) for a conversation about recent developments on the to
 pic of equality and inclusivity in the media. We’re thrilled to welcome 
 our Dene Cohen\, cha...
DTSTART;TZID=America/Toronto:20180308T190000
DTEND;TZID=America/Toronto:20180308T210000
END:VEVENT
END:VCALENDAR
