BEGIN:VCALENDAR
PRODID:-//eluceo/ical//2.0/EN
VERSION:2.0
CALSCALE:GREGORIAN
BEGIN:VEVENT
UID:c1451f399511768cd6e51069d4eddc4b
DTSTAMP:20260422T165222Z
SUMMARY:A Temple Sinai Program: Accent on Youth — Tizmoret
DESCRIPTION:UJA Federation of Greater Toronto\nJewish Toronto Calendar\nhtt
 ps://jewishtoronto.com/calendar/a-temple-sinai-program-accent-on-youth--ti
 zmoret-1578432922\n\nA Temple Sinai Program: Accent on Youth — Tizmoret\
 nStep aside Pitch Perfect here comes Tizmoret\, Queens College Hillel’s 
 professional Jewish a cappella group. While you may not see cartwheels and
  back flips on stage\, this real-life a cappella group has won first place
  at the National Competition for Jewish Collegiate A Cappella\, Kol HaOlam
 \, in 2011\, 2012 and 2015! They also won the first-annual Philadelphia Je
 wish Collegiate A Cappella Competition in 2017! Temple Sinai is excited to
  welc...
DTSTART;TZID=America/Toronto:20200209T093000
DTEND;TZID=America/Toronto:20200209T110000
END:VEVENT
END:VCALENDAR
