BEGIN:VCALENDAR
PRODID:-//eluceo/ical//2.0/EN
VERSION:2.0
CALSCALE:GREGORIAN
BEGIN:VEVENT
UID:05fc00b2adee60f5e101c71b570ab56e
DTSTAMP:20260419T165639Z
SUMMARY:A Temple Sinai Program — 12th Annual Renaissance Film Festival
DESCRIPTION:UJA Federation of Greater Toronto\nJewish Toronto Calendar\nhtt
 ps://jewishtoronto.com/calendar/a-temple-sinai-program-12th-annual-renaiss
 ance-film-festival\n\nA Temple Sinai Program — Twelfth Annual Renaissanc
 e Film Festival December 2\, 3\, 4\nWe welcome back Susan Starkman\, film 
 educator\, as our guest speaker for the weekend.\n\nFriday Evening: Green 
 Park (UK\, 60 minutes\, English). Where thoughts of summer holidays now tu
 rn towards Israel\, the Caribbean and America\, it was once the height of 
 exotica for British Jews to contemplate a week away in Bournemouth. For a 
 considerable post-war period\, the seaside town’s kosher hotels were the
  vacation ...
DTSTART;TZID=America/Toronto:20161202T200000
DTEND;TZID=America/Toronto:20161204T230000
END:VEVENT
END:VCALENDAR
