BEGIN:VCALENDAR
PRODID:-//eluceo/ical//2.0/EN
VERSION:2.0
CALSCALE:GREGORIAN
BEGIN:VEVENT
UID:c9711938af12ef2c686959270c696967
DTSTAMP:20260419T170905Z
SUMMARY:A Temple Sinai Program — Young Families Tikkun Olam Havdalah
DESCRIPTION:UJA Federation of Greater Toronto\nJewish Toronto Calendar\nhtt
 ps://jewishtoronto.com/calendar/a-temple-sinai-program--young-families-tik
 kun-olam-havdalah-1545664193\n\nA Temple Sinai Program — Young Families 
 Tikkun Olam Havdalah\nCome roll up your sleeves and make a difference. Tea
 ch your kids the value of tzedakah by making muffins for people experienci
 ng homelessness\, while we celebrate Havdalah. The muffins will be taken t
 hat same night on the Ve’ahavta van and delivered to those in need throu
 gh its mobile relief service. Donations of many much needed winter items w
 ill also be accepted. Time: 4:00 p.m. to 5:30 p.m. This program is free of
  charge\, but...
DTSTART;TZID=America/Toronto:20190112T160000
DTEND;TZID=America/Toronto:20190112T173000
END:VEVENT
END:VCALENDAR
