BEGIN:VCALENDAR
PRODID:-//eluceo/ical//2.0/EN
VERSION:2.0
CALSCALE:GREGORIAN
BEGIN:VEVENT
UID:9da545802d661ece0b423b2f2b96cbb7
DTSTAMP:20260425T210853Z
SUMMARY:A Temple Sinai Program – Yom Kippur Young Leaders Speak
DESCRIPTION:UJA Federation of Greater Toronto\nJewish Toronto Calendar\nhtt
 ps://jewishtoronto.com/calendar/a-temple-sinai-program--yom-kippur--young-
 leaders-speak-1472225114\n\nA Temple Sinai Program – Yom Kippur Young Le
 aders Speak and Cultural Learning Experience\nThrough drama\, the Harold G
 reen Jewish Theatre Company (HGJT) will take us on a journey that will exp
 lore our Jewish identity. With music and song\, this multigenerational cul
 tural experience will also feature our young leaders: a high school studen
 t\, a university student and a young professional who will explore their v
 ision for Jewish life in the next generation. We hope this tradition will 
 make Yom...
DTSTART;TZID=America/Toronto:20161012T154500
DTEND;TZID=America/Toronto:20161012T170000
END:VEVENT
END:VCALENDAR
