BEGIN:VCALENDAR
PRODID:-//eluceo/ical//2.0/EN
VERSION:2.0
CALSCALE:GREGORIAN
BEGIN:VEVENT
UID:96182c6a8ca6f615122bbdd452f2d56f
DTSTAMP:20260420T123310Z
SUMMARY:A Temple Sinai Program — Yizkor Service
DESCRIPTION:UJA Federation of Greater Toronto\nJewish Toronto Calendar\nhtt
 ps://jewishtoronto.com/calendar/a-temple-sinai-program--yizkor-service-156
 7008149\n\nA Temple Sinai Program — Yizkor Service Our Yizkor service wi
 ll again include the talents of violinist Moshe Hammer\, ending with Havda
 lah and the sounding of the shofar. Time: 5:00 p.m. Registration is requir
 ed. Open to the community. Register online at templesinai.net/community-se
 rvice\, call the Temple Office at 416-487-4161 or email programs@templesin
 ai.net. 210 Wilson Avenue.
DTSTART;TZID=America/Toronto:20191009T170000
DTEND;TZID=America/Toronto:20191009T190000
END:VEVENT
END:VCALENDAR
