BEGIN:VCALENDAR
PRODID:-//eluceo/ical//2.0/EN
VERSION:2.0
CALSCALE:GREGORIAN
BEGIN:VEVENT
UID:9bed637f7f4a562ee4bfa18fc104c841
DTSTAMP:20260423T171604Z
SUMMARY:A Temple Sinai Program - with Dr. Donald Stuss
DESCRIPTION:UJA Federation of Greater Toronto\nJewish Toronto Calendar\nhtt
 ps://jewishtoronto.com/calendar/a-temple-sinai-program--with-dr-donald-stu
 ss-1472157892\n\nA Temple Sinai Program — What Neurological Patients Tea
 ch Us about Life\, Love and Liberty with Dr. Donald Stuss\nDamage to speci
 fic parts of the brain can have dramatic effects on an individual and thei
 r families. These changes inform us not only of the organization of the br
 ain\, but also show each of us our own humanity. Case studies of individua
 ls who suffered damage to the front part of the brain provide examples for
  reflection about our own lives. Donald T. Stuss\, Ph.D.\, is currently is
 ...
DTSTART;TZID=America/Toronto:20161124T190000
DTEND;TZID=America/Toronto:20161124T203000
END:VEVENT
END:VCALENDAR
