BEGIN:VCALENDAR
PRODID:-//eluceo/ical//2.0/EN
VERSION:2.0
CALSCALE:GREGORIAN
BEGIN:VEVENT
UID:8607145ff28075b28626bb7f1df7bdc7
DTSTAMP:20260421T210421Z
SUMMARY:A Temple Sinai Program:  What in the World? With Dr. Ira Schweitzer
DESCRIPTION:UJA Federation of Greater Toronto\nJewish Toronto Calendar\nhtt
 ps://jewishtoronto.com/calendar/a-temple-sinai-program--what-in-the-world-
 with-dr-ira-schweitzer-1614963748\n\nA Temple Sinai Program: What in the W
 orld? With Dr. Ira Schweitzer Monday\, March 15 at 2.30 p.m.Grab a cup of 
 coffee and join moderator and member Dr. Ira Schweitzer for a lively discu
 ssion about current events.Embark on what promises to be a spirited and en
 gaging discussion with a topic currently making headlines.Keep watching th
 e news\, reading your newspapers or news websites and come ready for a gre
 at conversation. All are welcome to participate.For more information and t
 o register visit u...
DTSTART;TZID=America/Toronto:20210315T143000
DTEND;TZID=America/Toronto:20210315T153000
END:VEVENT
END:VCALENDAR
