BEGIN:VCALENDAR
PRODID:-//eluceo/ical//2.0/EN
VERSION:2.0
CALSCALE:GREGORIAN
BEGIN:VEVENT
UID:cefa3da3c37f563dc832d17a8b916541
DTSTAMP:20260421T021202Z
SUMMARY:A Temple Sinai Program — Tune into Tots
DESCRIPTION:UJA Federation of Greater Toronto\nJewish Toronto Calendar\nhtt
 ps://jewishtoronto.com/calendar/a-temple-sinai-program--tune-into-tots-146
 0053431\n\nCalling all toddlers from 12 to 36 months of age. Bring your pa
 rents and grandparents and come celebrate Shabbat and make some new friend
 s. Explore our beautiful playroom\, run and jump in the gym and join our m
 usical Shabbat celebration. There is no charge for this event. Time: 9:30 
 a.m. to 11:00 a.m. 210 Wilson Avenue. For more information and to register
  please call the Education Office at 416-487-4161 or email education@templ
 esinai.net. 210 Wilson Avenue.
DTSTART;TZID=America/Toronto:20160415T093000
DTEND;TZID=America/Toronto:20160415T110000
END:VEVENT
END:VCALENDAR
